BEGIN:VCALENDAR
VERSION:2.0
PRODID:-//ERGO-TEC - ECPv6.8.3//NONSGML v1.0//EN
CALSCALE:GREGORIAN
METHOD:PUBLISH
X-ORIGINAL-URL:https://www.ergo-tec.it
X-WR-CALDESC:Eventi per ERGO-TEC
REFRESH-INTERVAL;VALUE=DURATION:PT1H
X-Robots-Tag:noindex
X-PUBLISHED-TTL:PT1H
BEGIN:VTIMEZONE
TZID:Europe/Rome
BEGIN:DAYLIGHT
TZOFFSETFROM:+0100
TZOFFSETTO:+0200
TZNAME:CEST
DTSTART:20260329T010000
END:DAYLIGHT
BEGIN:STANDARD
TZOFFSETFROM:+0200
TZOFFSETTO:+0100
TZNAME:CET
DTSTART:20261025T010000
END:STANDARD
END:VTIMEZONE
BEGIN:VEVENT
DTSTART;TZID=Europe/Rome:20260306T090000
DTEND;TZID=Europe/Rome:20260307T180000
DTSTAMP:20260424T012905
CREATED:20260219T164405Z
LAST-MODIFIED:20260224T150320Z
UID:10425-1772787600-1772906400@www.ergo-tec.it
SUMMARY:Corso per Operatore di Gru su autocarro
DESCRIPTION:(ai sensi dell’art. 71 e dell’art. 73 del D.Lgs. 81/2008 e Accordo Stato-Regioni del 17/04/2025) \nSede di svolgimento del corso: Padova \nDestinatari \nIl corso è rivolto agli addetti all’uso delle gru su autocarro che vogliono conseguire l’abilitazione. \nFormazione completa \n6 marzo dalle ore 8.30 alle 17.30\n7 marzo dalle ore 8.30 alle 12.30 \nLe iscrizioni si chiuderanno il 26 febbraio. \nGuarda la scheda del corso
URL:https://www.ergo-tec.it/corso/corso-per-operatore-di-gru-su-autocarro/
LOCATION:Ergo tec Padova – Via Ticino 1
ATTACH;FMTTYPE=image/png:https://www.ergo-tec.it/wp-content/uploads/2026/02/HEADER-ARTICOLI.png
END:VEVENT
END:VCALENDAR