BEGIN:VCALENDAR
VERSION:2.0
PRODID:-//ERGO-TEC - ECPv6.8.3//NONSGML v1.0//EN
CALSCALE:GREGORIAN
METHOD:PUBLISH
X-ORIGINAL-URL:https://www.ergo-tec.it
X-WR-CALDESC:Eventi per ERGO-TEC
REFRESH-INTERVAL;VALUE=DURATION:PT1H
X-Robots-Tag:noindex
X-PUBLISHED-TTL:PT1H
BEGIN:VTIMEZONE
TZID:UTC
BEGIN:STANDARD
TZOFFSETFROM:+0000
TZOFFSETTO:+0000
TZNAME:UTC
DTSTART:20260101T000000
END:STANDARD
END:VTIMEZONE
BEGIN:VEVENT
DTSTART;TZID=UTC:20260311T090000
DTEND;TZID=UTC:20260318T180000
DTSTAMP:20260423T120706
CREATED:20260219T170231Z
LAST-MODIFIED:20260219T170231Z
UID:10442-1773219600-1773856800@www.ergo-tec.it
SUMMARY:Corsi di formazione per RAPPRESENTANTI DEI LAVORATORI PER LA SICUREZZA
DESCRIPTION:(ai sensi dell’art. 47 del D.Lgs. 9 Aprile 2008 e Accordo Stato-Regioni del 21/12/2011) \nIl corso verrà svolto in modalità webinar\nDestinatari \nPersonale dipendente eletto dai lavoratori a rappresentante in tema di sicurezza sul luogo di lavoro.\nIl corso permette ai Rappresentanti dei lavoratori per la sicurezza di adempiere all’obbligo di formazione sancito dalla normativa. \nDurata \nIl corso si svolgerà dalle ore 9 alle 13 e dalle 14 alle 18 in tutte le seguenti giornate 11\, 12\, 17 e 18 marzo. \nLe iscrizioni al corso si chiuderanno il 5 marzo 2026. \nGuarda la scheda del corso
URL:https://www.ergo-tec.it/corso/corsi-di-formazione-per-rappresentanti-dei-lavoratori-per-la-sicurezza-13/
LOCATION:Webinar
ATTACH;FMTTYPE=image/png:https://www.ergo-tec.it/wp-content/uploads/2025/08/HEADER-CORSI-35.png
END:VEVENT
END:VCALENDAR