BEGIN:VCALENDAR
VERSION:2.0
PRODID:-//ERGO-TEC - ECPv6.8.3//NONSGML v1.0//EN
CALSCALE:GREGORIAN
METHOD:PUBLISH
X-WR-CALNAME:ERGO-TEC
X-ORIGINAL-URL:https://www.ergo-tec.it
X-WR-CALDESC:Eventi per ERGO-TEC
REFRESH-INTERVAL;VALUE=DURATION:PT1H
X-Robots-Tag:noindex
X-PUBLISHED-TTL:PT1H
BEGIN:VTIMEZONE
TZID:UTC
BEGIN:STANDARD
TZOFFSETFROM:+0000
TZOFFSETTO:+0000
TZNAME:UTC
DTSTART:20260101T000000
END:STANDARD
TZID:Europe/Rome
BEGIN:DAYLIGHT
TZOFFSETFROM:+0100
TZOFFSETTO:+0200
TZNAME:CEST
DTSTART:20260329T010000
END:DAYLIGHT
BEGIN:STANDARD
TZOFFSETFROM:+0200
TZOFFSETTO:+0100
TZNAME:CET
DTSTART:20261025T010000
END:STANDARD
END:VTIMEZONE
BEGIN:VEVENT
DTSTART;TZID=UTC:20260311T090000
DTEND;TZID=UTC:20260318T180000
DTSTAMP:20260423T101419
CREATED:20260219T170231Z
LAST-MODIFIED:20260219T170231Z
UID:10442-1773219600-1773856800@www.ergo-tec.it
SUMMARY:Corsi di formazione per RAPPRESENTANTI DEI LAVORATORI PER LA SICUREZZA
DESCRIPTION:(ai sensi dell’art. 47 del D.Lgs. 9 Aprile 2008 e Accordo Stato-Regioni del 21/12/2011) \nIl corso verrà svolto in modalità webinar\nDestinatari \nPersonale dipendente eletto dai lavoratori a rappresentante in tema di sicurezza sul luogo di lavoro.\nIl corso permette ai Rappresentanti dei lavoratori per la sicurezza di adempiere all’obbligo di formazione sancito dalla normativa. \nDurata \nIl corso si svolgerà dalle ore 9 alle 13 e dalle 14 alle 18 in tutte le seguenti giornate 11\, 12\, 17 e 18 marzo. \nLe iscrizioni al corso si chiuderanno il 5 marzo 2026. \nGuarda la scheda del corso
URL:https://www.ergo-tec.it/corso/corsi-di-formazione-per-rappresentanti-dei-lavoratori-per-la-sicurezza-13/
LOCATION:Webinar
ATTACH;FMTTYPE=image/png:https://www.ergo-tec.it/wp-content/uploads/2025/08/HEADER-CORSI-35.png
END:VEVENT
BEGIN:VEVENT
DTSTART;TZID=UTC:20260316T090000
DTEND;TZID=UTC:20260316T180000
DTSTAMP:20260423T101419
CREATED:20260219T165256Z
LAST-MODIFIED:20260219T165256Z
UID:10429-1773651600-1773684000@www.ergo-tec.it
SUMMARY:Corso di formazione per addetti ai lavori in quota e DPI anticaduta di III categoria e aggiornamento
DESCRIPTION:(ai sensi degli articoli 37\, 71\, 73 e 77 del D.Lgs. 81/2008 e Accordo Stato-Regioni del 21/12/2011D.lgs.81/08) \nSede di svolgimento del corso: Padova \nDestinatari \nIl corso è rivolto ai lavoratori addetti ad attività lavorative per le quali sono esposti a un rischio caduta dall’alto (attrezzature e attività svolte da un’altezza superiore di due metri rispetto ad un piano stabile)\, e che devono utilizzare dispositivi di protezione individuale anticaduta. \nDurata del corso \n\nLunedì 16 marzo – orario 9.00-13.00/14.00-18.00: corso completo\nLunedì 16 marzo – orario00-18.00: aggiornamento\n\nLe iscrizioni chiuderanno il 12 febbraio 2026. \nGuarda la scheda del corso
URL:https://www.ergo-tec.it/corso/corso-di-formazione-per-addetti-ai-lavori-in-quota-e-dpi-anticaduta-di-iii-categoria-e-aggiornamento-2/
LOCATION:Ergo tec Padova – Via Ticino 1
ATTACH;FMTTYPE=image/png:https://www.ergo-tec.it/wp-content/uploads/2025/01/2.png
END:VEVENT
BEGIN:VEVENT
DTSTART;TZID=Europe/Rome:20260316T090000
DTEND;TZID=Europe/Rome:20260319T180000
DTSTAMP:20260423T101419
CREATED:20260213T090917Z
LAST-MODIFIED:20260213T090917Z
UID:10366-1773651600-1773943200@www.ergo-tec.it
SUMMARY:Corso per lavoratori addetti ai sistemi di accesso e posizionamento mediante funi
DESCRIPTION:(ai sensi dell’Art. 116\, co. 4\, D.Lgs. 81/2008\, Allegato XXI) \nSede di svolgimento del corso: Padova\nDestinatari \nIl corso si rivolge al personale che lavora in quota utilizzando di sistemi di accesso e di posizionamento mediante funi. \nLe iscrizioni al corso si chiuderanno il 13 marzo. \nGuarda la scheda del corso
URL:https://www.ergo-tec.it/corso/corso-per-lavoratori-addetti-ai-sistemi-di-accesso-e-posizionamento-mediante-funi-49/
LOCATION:Ergo tec Padova – Via Ticino 1
ATTACH;FMTTYPE=image/png:https://www.ergo-tec.it/wp-content/uploads/2025/08/HEADER-CORSI-36.png
END:VEVENT
END:VCALENDAR