BEGIN:VCALENDAR
VERSION:2.0
PRODID:-//ERGO-TEC - ECPv6.8.3//NONSGML v1.0//EN
CALSCALE:GREGORIAN
METHOD:PUBLISH
X-WR-CALNAME:ERGO-TEC
X-ORIGINAL-URL:https://www.ergo-tec.it
X-WR-CALDESC:Eventi per ERGO-TEC
REFRESH-INTERVAL;VALUE=DURATION:PT1H
X-Robots-Tag:noindex
X-PUBLISHED-TTL:PT1H
BEGIN:VTIMEZONE
TZID:UTC
BEGIN:STANDARD
TZOFFSETFROM:+0000
TZOFFSETTO:+0000
TZNAME:UTC
DTSTART:20260101T000000
END:STANDARD
END:VTIMEZONE
BEGIN:VEVENT
DTSTART;TZID=UTC:20260326T090000
DTEND;TZID=UTC:20260326T180000
DTSTAMP:20260422T154649
CREATED:20260219T170030Z
LAST-MODIFIED:20260219T170041Z
UID:10439-1774515600-1774548000@www.ergo-tec.it
SUMMARY:Corsi di aggiornamento per RAPPRESENTANTI DEI LAVORATORI PER LA SICUREZZA
DESCRIPTION:(ai sensi dell’art. 47 del D.Lgs. 9 Aprile 2008 e Accordo Stato-Regioni del 21/12/2011) \nIl corso verrà svolto in modalità webinar\nDestinatari \nPersonale dipendente eletto dai lavoratori a rappresentante in tema di sicurezza sul luogo di lavoro. \nIl corso permette ai Rappresentanti dei lavoratori per la sicurezza di adempiere all’obbligo di formazione sancito dalla normativa. \n Durata del corso \n\nGiovedì 26 marzo\, orario 9-13: aggiornamento (<50 dipendenti)\nGiovedì 26 marzo\, orario 9-13/14-18: aggiornamento (>50 dipendenti)\n\nLe iscrizioni al corso si chiuderanno il 19 marzo.  \nGuarda la scheda del corso
URL:https://www.ergo-tec.it/corso/corsi-di-aggiornamento-per-rappresentanti-dei-lavoratori-per-la-sicurezza-15/
LOCATION:Webinar
ATTACH;FMTTYPE=image/png:https://www.ergo-tec.it/wp-content/uploads/2025/10/HEADER-CORSI-60.png
END:VEVENT
END:VCALENDAR